BEGIN:VCALENDAR
VERSION:2.0
PRODID:-//Wave Davis - ECPv6.15.20//NONSGML v1.0//EN
CALSCALE:GREGORIAN
METHOD:PUBLISH
X-WR-CALNAME:Wave Davis
X-ORIGINAL-URL:https://wavedavis.me
X-WR-CALDESC:Events for Wave Davis
REFRESH-INTERVAL;VALUE=DURATION:PT1H
X-Robots-Tag:noindex
X-PUBLISHED-TTL:PT1H
BEGIN:VTIMEZONE
TZID:UTC
BEGIN:STANDARD
TZOFFSETFROM:+0000
TZOFFSETTO:+0000
TZNAME:UTC
DTSTART:20230101T000000
END:STANDARD
END:VTIMEZONE
BEGIN:VEVENT
DTSTART;TZID=UTC:20240302T100000
DTEND;TZID=UTC:20240302T235900
DTSTAMP:20260420T054849
CREATED:20241201T191520Z
LAST-MODIFIED:20250120T164359Z
UID:241-1709373600-1709423940@wavedavis.me
SUMMARY:Energy Orgasms 101: Ritual Release Ecstasy | One-Day Workshop & Temple
DESCRIPTION:❤️ Do you long to go deeper into pleasure?\n❤️ Do you hear people talk about ‘energy’ but you just can’t feel it?\n❤️ Do your triggers and patterns prevent you from truly connecting with joy and orgasmic pleasure?\n❤️ Do you want to go beyond pleasure and harness the power of life energy\, for healing\, growth and magic? \nJoin us on our journey home to the body. Towards releasing the ‘blocks’ that stand in our way. Towards orgasmic pleasure throughout the body. Towards circulating sexual energy to enter altered states of consciousness that enable healing and wisdom.\nOur birthright is joy. Embodied joy. \n🖤🖤 In this One Day Workshop & Temple\, you will have the opportunity to…. \n– Take part in a ritual in which many will experience release\, delight and a full-body energetic orgasm\n– Learn a powerful technique that you can practice at home to experience a full-body energetic orgasm and access a healing altered state of consciousness\n– Learn basic tantric massage techniques for all levels of intimacy and experience\n– Learn how to listen to your body’s ‘yes’ and ‘no’ so that you can make choices fully aligned with your boundaries\n– Begin to uncover patterns of thinking\, beliefs and behaviour that hold you back in life\, preventing the ‘flow’ of energy in the body and limiting your capacity for pleasure\n– Understand the tantric concept of polarity and how to ‘polarise’ through focusing attention\n– Learn how to create rituals in which magic can occur and take part in an ancient Tibetan ‘fire’ meditation to discover your ‘higher purpose’\n– Undertake effective ‘integration exercises’ that support you to fully benefit from profound experiences\n– Practice all that you have learned in a free-flow temple\n– Have the option to stay the night in a beautiful farmhouse in nature\, to continue\, to practice\, play and relax after the temple closes. \n🖤🖤 Welcome to Energy Orgasms 101 \nWhether you’re totally new to tantra\, temples and sex-positive spaces\, or whether you are experienced in these approaches and spaces\, you will find value and meaning at this one-day workshop and temple. We take innovative approaches to practices not commonly shared outside of extended tantric training programs. We focus on supporting integration so you can fully benefit from the profound experiences. \nWe have a clear focus on boundaries and consent to empower you to connect with others ONLY in a way where your body is a full “yes!”. We will support you to ensure that you do only what feels in alignment to you and for you. \nWe have multiple variations of every exercise for every level of comfortability with the different partners that you might be working with. We will support you stay within both your boundaries and any partner agreements you may have. \nWe are LGBTQIA+ inclusive and encourage people from diverse communities to attend. Whatever your gender and/or sexual orientation\, the techniques and teachings shared can be potent and transformative. \n🖤🖤 What to expect… \nWe will begin by creating a container in which you will learn to become aware of your body’s real ‘yes’s and ‘no’s and are empowered to stay within your boundaries. \nWe will go on to work with ‘darkness’ so as to shed ‘light’ on the patterns\, beliefs and behaviours which cause tension in your body and prevent energy from ‘flowing’. We will take cathartic approaches to the release of these ‘blocks’. \nNow that energy is more able to move freely in the body\, you will learn tantric techniques to work with this potent force\, including becoming sensitive to our ‘energy bodies’; intuitive touch and tantric massage methods. You will take part in an ancient Tibetan meditation to help you connect with your higher purpose. You will learn how to create rituals in which magic can occur and a potent method that enables a full-body orgasm in which you enter an ‘ecstatic state’ of altered consciousness. \nOnce you have understood these techniques\, we combine all of these elements in a powerful ritual in which most will experience release\, delight and a full-body energetic orgasm in which you will enter a profound ecstatic state where healing may occur and insights may arrive. \nThroughout the workshop\, integration exercises will support you in processing your experience so you can fully benefit from the exercises. \nWe will end with a free-flow temple space where you can practice all that you have learned. \nThere will be dedicated quiet areas and spaceholders on hand at all times to offer support. \n🖤🖤 Your Facilitator \n//Wave Davis\nWave has undertaken many years of extensive tantric training. His teachers have included Alan Lowen (Art Of Being) and Pema (Wild Tantra). He has years of experience in healing modalities from non-Western and Western traditions such as Dearmouring (Gaia Method)\, Zen Buddism (Thich Nhat Hanh)\, CBT\, EMDR\, and NVC.\nHe is deeply connected with several plant medicines including Mappacho and Ayuashsca having spent months in the Lareto region of the Amazon rainforest learning from Maestro Heberto Garcia. Wave is also a writer\, facilitator and activist\, currently leading a project to learn from indigenous communities. \nWave will be assisted by his partner Diane Benefice and a team of experienced spaceholders. \nPraise for Wave Davis \n“Wave gave us one of the greatest gifts for our relationship. It really felt like he was putting all of his love and energy into guiding us through the experience. It’s a very intimate and vulnerable space and he held it in a remarkable way. He gave us a tool to strengthen and deepen our bond\, which we are now incorporating and the results are unbelievable. We were on the very brink of breaking up and this ritual created an incredibly deep connection that brought us back to a place of closeness and compassion and honestly saved our relationship. We can’t thank him enough” – Nati \n“The workshop was extremely powerful and with his guidance\, we felt very safe and committed. On a technical level\, there’s a lot to take in\, understand and keep in mind\, and still\, Wave made it much easier with how he guided us and helped us focus on the crucial parts” – Space Monkey \n“Loved it. I felt safe\, connected. The best temple I’ve experienced in terms of truly bringing together sacredness & sexuality. I want to join every future temple by them” – Ariana Lara Norcia \n“Inspiring…creating a pure and safe environment with clear rules around consent. By doing their exercises my (sexual) energy got activated to such an extent that even the next day\, the slightest touch or look of my girl had me experience full-body orgasms throughout the whole day. Recommended!” – Frank \n🖤🖤 A tantric perspective on emotion\, orgasm & ecstasy… \nWhen our bodies are relaxed\, without tension or trauma\, the simple smell of fresh earth\, or of rain on skin\, can fill the whole body with orgasmic sensations\, with feelings of delight. \nTo arrive here it is helpful to understand emotion\, orgasm and ecstasy from a tantric perspective: \n*Emotion* is ‘energy’ in ‘motion’. It is when emotions get ‘trapped’ or stuck in particular places in our bodies that many common problems\, both physical and mental occur. However\, when emotion can flow freely throughout the body\, waves of intense and sustained orgasmic pleasure can be triggered throughout the entire body. This can enable ‘ecstatic states* of altered consciousness where healing can occur and insights can arrive. It is this understanding of ‘orgasm’ that we will be working with\, it is intense and wonderful\, and it has little to do with peak pleasurable sensations in the sex.
URL:https://wavedavis.me/event/energy-orgasms-101-ritual-release-ecstasy-one-day-workshop-temple/
LOCATION:The Farm\, Diemen\, Netherlands
CATEGORIES:One day workshops
ATTACH;FMTTYPE=image/jpeg:https://wavedavis.me/wp-content/uploads/2024/12/EnergyOrg101.jpg
END:VEVENT
END:VCALENDAR